BEGIN:VCALENDAR
VERSION:2.0
PRODID:-//Cosmoethos - ECPv6.15.13.1//NONSGML v1.0//EN
CALSCALE:GREGORIAN
METHOD:PUBLISH
X-WR-CALNAME:Cosmoethos
X-ORIGINAL-URL:https://cosmoethos.org.br
X-WR-CALDESC:Eventos para Cosmoethos
REFRESH-INTERVAL;VALUE=DURATION:PT1H
X-Robots-Tag:noindex
X-PUBLISHED-TTL:PT1H
BEGIN:VTIMEZONE
TZID:America/Sao_Paulo
BEGIN:STANDARD
TZOFFSETFROM:-0300
TZOFFSETTO:-0300
TZNAME:-03
DTSTART:20250101T000000
END:STANDARD
END:VTIMEZONE
BEGIN:VEVENT
DTSTART;TZID=America/Sao_Paulo:20260331T193000
DTEND;TZID=America/Sao_Paulo:20260526T220000
DTSTAMP:20260423T091654
CREATED:20250410T122112Z
LAST-MODIFIED:20260225T232043Z
UID:721-1774985400-1779832800@cosmoethos.org.br
SUMMARY:Curso de Conscienciologia (Presencial)
DESCRIPTION:O Curso de Conscienciologia está dividido em 16 aulas e será ministrado nas terças e quintas-feiras\, das 19h30 às 22h. \nProgramação das aulas: \nMARÇO: dia 31. \nABRIL: dias 2\, 7\, 9\, 14\, 16\, 23\, 28 e 30. \nMAIO: dias 5\, 7\, 12\, 14\, 19\, 21\, 26. \nPROGRAMA DO CURSO DE CONSCIENCIOLOGIA DA COSMOETHOS  \nAula 1 – Apresentação da Ciência Conscienciologia e seu propositor \nAula 2 – Paradigma Consciencial \nAula 3 – Metodologia de Pesquisa Conscienciológica \nAula 4 – Pensenologia e Holopensenologia \nAula 5 – Cosmoeticologia \nAula 6 – Projeciologia \nAula 7 – Manobras Bioenergéticas \nAula 8 – Parapercepciologia \nAula 9 – Holocarmologia \nAula 10 – Oficina de Técnicas da Cosmoética \nAula 11 – Interassistenciologia \nAula 12 – Técnicas Conscienciológicas Evolutivas \nAula 13 – Holomaturologia \nAula 14 – Proexologia \nAula 15 – Videocosmoeticograma \nAula 16 – Panorama da CCCI \nSe você ficou interessado no assunto\, inscreva-se no Curso pelo link: \n https://www.asaas.com/c/f0d4gdxexdt6knws \nOu Pix da Cosmoethos: CNPJ.: 23664319000117 \nDesconto de 40% para longevos (60+) e 25% para alunos que estejam repetindo o curso! \nMais informações através do WhatsApp da Cosmoethos: (54)99350-2924
URL:https://cosmoethos.org.br/evento/curso-de-conscienciologia-presencial/
LOCATION:Sede Cosmoethos\, Rua Vereador Mario Pezzi\, 662 - Sala 55\, Caxias do Sul\, RS\, Brazil\, Caxias do Sul\, Rio Grande do Sul\, 95084180\, Brazil
CATEGORIES:Curso Presencial
ATTACH;FMTTYPE=image/png:https://cosmoethos.org.br/wp-content/uploads/2025/04/Fev-Curso-de-Conscienciologia-1.png
ORGANIZER;CN="Cosmoethos":MAILTO:contato@cosmoethos.org.br
END:VEVENT
BEGIN:VEVENT
DTSTART;TZID=America/Sao_Paulo:20260425T090000
DTEND;TZID=America/Sao_Paulo:20260425T120000
DTSTAMP:20260423T091654
CREATED:20260124T204951Z
LAST-MODIFIED:20260124T204951Z
UID:876-1777107600-1777118400@cosmoethos.org.br
SUMMARY:Introdução ao Estudo dos Evoluciólogos (Curso Online)
DESCRIPTION:Curso Online com a Prof. Cosmoeticista Karla Ulman \nInvestimento: R$ 150\,00 \nInscrições pelo link: https://www.asaas.com/c/twi2s5xqpoqb19ah \nOu pelo Pix da Cosmoethos: CNPJ.: 23664319000117 \nDesconto de 40% para longevos (60+) e 25% para alunos que estejam repetindo o curso! \nMais informações através do WhatsApp da Cosmoethos: (54)99350-2924
URL:https://cosmoethos.org.br/evento/introducao-ao-estudo-dos-evoluciologos-curso-online/
ATTACH;FMTTYPE=image/png:https://cosmoethos.org.br/wp-content/uploads/2026/01/Introducao-ao-Estudo-dos-Evoluciologos.png
ORGANIZER;CN="Cosmoethos":MAILTO:contato@cosmoethos.org.br
END:VEVENT
BEGIN:VEVENT
DTSTART;TZID=America/Sao_Paulo:20260523T160000
DTEND;TZID=America/Sao_Paulo:20260523T193000
DTSTAMP:20260423T091654
CREATED:20260127T140146Z
LAST-MODIFIED:20260127T140146Z
UID:912-1779552000-1779564600@cosmoethos.org.br
SUMMARY:Oficina de Técnicas Energéticas
DESCRIPTION:A Oficina de Técnicas Energéticas da Cosmoethos visa o desenvolvimento do domínio energético do praticante. \nSão 3 horas de práticas energéticas e troca de experiências entre os participantes sob orientação do professor. \nSegue link para inscrição: https://www.asaas.com/c/i8r9m39x8sakhd8h \nOu Pix da Cosmoethos: CNPJ.: 23664319000117 \nMais informações através do WhatsApp da Cosmoethos: (54)99350-2924 \n 
URL:https://cosmoethos.org.br/evento/oficina-de-tecnicas-energeticas-5/
LOCATION:Sede Cosmoethos\, Rua Vereador Mario Pezzi\, 662 - Sala 55\, Caxias do Sul\, RS\, Brazil\, Caxias do Sul\, Rio Grande do Sul\, 95084180\, Brazil
ATTACH;FMTTYPE=image/png:https://cosmoethos.org.br/wp-content/uploads/2026/01/Oficina-de-T.-Energeticas-7.png
ORGANIZER;CN="Cosmoethos":MAILTO:contato@cosmoethos.org.br
END:VEVENT
BEGIN:VEVENT
DTSTART;TZID=America/Sao_Paulo:20260530T090000
DTEND;TZID=America/Sao_Paulo:20260530T120000
DTSTAMP:20260423T091654
CREATED:20260124T210138Z
LAST-MODIFIED:20260124T210138Z
UID:879-1780131600-1780142400@cosmoethos.org.br
SUMMARY:Desassédio Interassistencial (Curso Online)
DESCRIPTION:Curso Online com o Prof. Cosmoeticista Alexandre Grahlmann \nInvestimento: R$ 150\,00 \nInscrições pelo link: https://www.asaas.com/c/f4380b082aaf74na \nOu pelo Pix da Cosmoethos: CNPJ.: 23664319000117 \nDesconto de 40% para longevos (60+) e 25% para alunos que estejam repetindo o curso! \nMais informações através do WhatsApp da Cosmoethos: (54)99350-2924
URL:https://cosmoethos.org.br/evento/desassedio-interassistencial-curso-online/
ATTACH;FMTTYPE=image/png:https://cosmoethos.org.br/wp-content/uploads/2026/01/Mai-Desassedio-Interassistencial.png
ORGANIZER;CN="Cosmoethos":MAILTO:contato@cosmoethos.org.br
END:VEVENT
BEGIN:VEVENT
DTSTART;TZID=America/Sao_Paulo:20260620T160000
DTEND;TZID=America/Sao_Paulo:20260620T193000
DTSTAMP:20260423T091654
CREATED:20260127T140408Z
LAST-MODIFIED:20260127T140408Z
UID:915-1781971200-1781983800@cosmoethos.org.br
SUMMARY:Oficina de Técnicas Energéticas
DESCRIPTION:A Oficina de Técnicas Energéticas da Cosmoethos visa o desenvolvimento do domínio energético do praticante. \nSão 3 horas de práticas energéticas e troca de experiências entre os participantes sob orientação do professor. \nSegue link para inscrição: https://www.asaas.com/c/i8r9m39x8sakhd8h \nOu Pix da Cosmoethos: CNPJ.: 23664319000117 \nMais informações através do WhatsApp da Cosmoethos: (54)99350-2924 \n 
URL:https://cosmoethos.org.br/evento/oficina-de-tecnicas-energeticas-6/
LOCATION:Sede Cosmoethos\, Rua Vereador Mario Pezzi\, 662 - Sala 55\, Caxias do Sul\, RS\, Brazil\, Caxias do Sul\, Rio Grande do Sul\, 95084180\, Brazil
ATTACH;FMTTYPE=image/png:https://cosmoethos.org.br/wp-content/uploads/2026/01/Oficina-de-T.-Energeticas-8.png
ORGANIZER;CN="Cosmoethos":MAILTO:contato@cosmoethos.org.br
END:VEVENT
BEGIN:VEVENT
DTSTART;TZID=America/Sao_Paulo:20260627T090000
DTEND;TZID=America/Sao_Paulo:20260627T120000
DTSTAMP:20260423T091654
CREATED:20260125T134018Z
LAST-MODIFIED:20260125T134018Z
UID:885-1782550800-1782561600@cosmoethos.org.br
SUMMARY:Aplicação dos Princípios Cosmoéticos no Cotidiano (Curso Online)
DESCRIPTION:Curso Online com a Prof. Cosmoeticista Adriana Rocha \nInvestimento: R$ 150\,00 \nInscrições pelo link: https://www.asaas.com/c/bkgkz36zstp7b5p3 \nOu pelo Pix da Cosmoethos: CNPJ.: 23664319000117 \nDesconto de 40% para longevos (60+) e 25% para alunos que estejam repetindo o curso! \nMais informações através do WhatsApp da Cosmoethos: (54)99350-2924
URL:https://cosmoethos.org.br/evento/aplicacao-dos-principios-cosmoeticos-no-cotidiano-curso-online/
CATEGORIES:Curso de 3 horas,Curso Online
ATTACH;FMTTYPE=image/png:https://cosmoethos.org.br/wp-content/uploads/2026/01/Jun-Aplicacao-dos-Principios-Cosmoeticos-no-Cotidiano.png
ORGANIZER;CN="Cosmoethos":MAILTO:contato@cosmoethos.org.br
END:VEVENT
BEGIN:VEVENT
DTSTART;TZID=America/Sao_Paulo:20260725T090000
DTEND;TZID=America/Sao_Paulo:20260725T120000
DTSTAMP:20260423T091654
CREATED:20260125T134448Z
LAST-MODIFIED:20260125T134448Z
UID:888-1784970000-1784980800@cosmoethos.org.br
SUMMARY:Determinismo\, Livre-arbítrio e os Limites da Consciência (Curso Online)
DESCRIPTION:Curso Online com o Prof. Cosmoeticista Alexandre Grahlmann \nInvestimento: R$ 150\,00 \nInscrições pelo link: https://www.asaas.com/c/n93vbk8rpmscxw9u \nOu pelo Pix da Cosmoethos: CNPJ.: 23664319000117 \nDesconto de 40% para longevos (60+) e 25% para alunos que estejam repetindo o curso! \nMais informações através do WhatsApp da Cosmoethos: (54)99350-2924
URL:https://cosmoethos.org.br/evento/determinismo-livre-arbitrio-e-os-limites-da-consciencia-curso-online/
CATEGORIES:Curso de 3 horas,Curso Online
ATTACH;FMTTYPE=image/png:https://cosmoethos.org.br/wp-content/uploads/2026/01/Jul-Determinismo-Livre-arbitrio-e-os-Limites-da-Consciencia.png
ORGANIZER;CN="Cosmoethos":MAILTO:contato@cosmoethos.org.br
END:VEVENT
BEGIN:VEVENT
DTSTART;TZID=America/Sao_Paulo:20260801T090000
DTEND;TZID=America/Sao_Paulo:20260830T163000
DTSTAMP:20260423T091654
CREATED:20260125T220433Z
LAST-MODIFIED:20260125T220433Z
UID:891-1785574800-1788107400@cosmoethos.org.br
SUMMARY:Curso Evolução pelo Esquadrinhamento da Automegacosmoética (Online)
DESCRIPTION:OBJETIVOS \n– Aprender a usar a Automegacosmoética como catalizador do processo evolutivo pessoal.\n– Autopesquisar a própria realidade intraconsciencial para\, a partir daí\, construir e ampliar o Código Pessoal de Cosmoética (CPC) através de abordagem centrífuga (de dentro pra fora). \n\nPRÉ-REQUISITO \nCurso Introdutório em Conscienciologia oferecido por IC reconhecida pela UNICIN. \nDIAS & HORÁRIO \nSábados e Domingos \n9h às 11h30 e 14h às 16h30 \n\n\nMÓDULO 1 – 01 e 02/08/2026 \nAUTOCOSMOÉTICA \nIntrodução ao estudo da Cosmoética e da Autocosmoética a partir da compreensão da paraestrutura moral (valores\, princípios e regras) dessas realidades conscienciais.\n \nMÓDULO 2 – 08 e 09/08/2026\nAUTORREFLEXÃO CRÍTICA COSMOÉTICA \nAprendizagem das principais ferramentas – autorreflexão crítica cosmoética\, ciclo de qualificação contínua da autocosmoética e variáveis de análise da autocosmoeticidade – a serem usadas nas reflexões e vivências da Autocosmoética.\n \nMÓDULO 3 – 15 e 16/08/2026 \nAUTOMEGACOSMOETICOPENSENIDADE \nEstudo teático das variáveis de análise da automegacosmoeticopensenidade e implementação teática através do uso de planilhas didáticas.\n \nMÓDULO 4 – 29 e 30/08/2026 \nMAPA ESQUADRINHOLÓGICO MEGACOSMOÉTICO PESSOAL (MEMP) & CÓDIGO PESSOAL DE COSMOÉTICA (CPC) \nLevantamento da realidade intraconsciencial de cada participante dentro das ações do ego\, grupo e policarma fechando com a escrita final\, realista e atualizada\, do Código Pessoal de Cosmoética (CPC) de cada aluno(a). \nCurso Online com os Profs. Cosmoeticistas Adriana Rocha e Hegrisson Alves \nInvestimento: R$ 800\,00 \nInscrições pelo link: https://www.asaas.com/c/ruoy48yq8rhjeqay \nOu pelo Pix da Cosmoethos: CNPJ.: 23664319000117 \nDesconto de 40% para longevos (60+) e 25% para alunos que estejam repetindo o curso! \nMais informações através do WhatsApp da Cosmoethos: (54)99350-2924
URL:https://cosmoethos.org.br/evento/curso-evolucao-pelo-esquadrinhamento-da-automegacosmoetica-online/
ATTACH;FMTTYPE=image/png:https://cosmoethos.org.br/wp-content/uploads/2026/01/Ago-CEEA-Online.png
ORGANIZER;CN="Cosmoethos":MAILTO:contato@cosmoethos.org.br
END:VEVENT
END:VCALENDAR